BEGIN:VCALENDAR
VERSION:2.0
PRODID:-//Suisun RCD - ECPv6.15.20//NONSGML v1.0//EN
CALSCALE:GREGORIAN
METHOD:PUBLISH
X-ORIGINAL-URL:https://suisunrcd.org
X-WR-CALDESC:Events for Suisun RCD
REFRESH-INTERVAL;VALUE=DURATION:PT1H
X-Robots-Tag:noindex
X-PUBLISHED-TTL:PT1H
BEGIN:VTIMEZONE
TZID:America/Los_Angeles
BEGIN:DAYLIGHT
TZOFFSETFROM:-0800
TZOFFSETTO:-0700
TZNAME:PDT
DTSTART:20240310T100000
END:DAYLIGHT
BEGIN:STANDARD
TZOFFSETFROM:-0700
TZOFFSETTO:-0800
TZNAME:PST
DTSTART:20241103T090000
END:STANDARD
BEGIN:DAYLIGHT
TZOFFSETFROM:-0800
TZOFFSETTO:-0700
TZNAME:PDT
DTSTART:20250309T100000
END:DAYLIGHT
BEGIN:STANDARD
TZOFFSETFROM:-0700
TZOFFSETTO:-0800
TZNAME:PST
DTSTART:20251102T090000
END:STANDARD
BEGIN:DAYLIGHT
TZOFFSETFROM:-0800
TZOFFSETTO:-0700
TZNAME:PDT
DTSTART:20260308T100000
END:DAYLIGHT
BEGIN:STANDARD
TZOFFSETFROM:-0700
TZOFFSETTO:-0800
TZNAME:PST
DTSTART:20261101T090000
END:STANDARD
END:VTIMEZONE
BEGIN:VEVENT
DTSTART;VALUE=DATE:20250901
DTEND;VALUE=DATE:20250902
DTSTAMP:20260425T203936
CREATED:20250110T184303Z
LAST-MODIFIED:20250110T184303Z
UID:10000063-1756684800-1756771199@suisunrcd.org
SUMMARY:SRCD Holiday - Labor Day
DESCRIPTION:
URL:https://suisunrcd.org/event/srcd-holiday-labor-day-3/
END:VEVENT
BEGIN:VEVENT
DTSTART;TZID=America/Los_Angeles:20250917T083000
DTEND;TZID=America/Los_Angeles:20250917T140000
DTSTAMP:20260425T203936
CREATED:20250722T171933Z
LAST-MODIFIED:20250910T190641Z
UID:10000080-1758097800-1758117600@suisunrcd.org
SUMMARY:2025 Suisun Marsh Fall Landowner Workshop
DESCRIPTION:SAVE THE DATE! \nJoin the Landowners of Suisun Marsh for a hybrid workshop on Wednesday\, September 17\, 2025 hosted by the Suisun Resource Conservation District. \nJoin Zoom Meetinghttps://us02web.zoom.us/j/88935435804Meeting ID: 889 3543 5804
URL:https://suisunrcd.org/event/2025-suisun-marsh-fall-landowner-workshop/
LOCATION:FP Smith Parts and Equipment\, 3190 Ramsey Road\, Fairfield\, CA\, 94533\, United States
END:VEVENT
END:VCALENDAR