BEGIN:VCALENDAR
VERSION:2.0
PRODID:-//Suisun RCD - ECPv6.15.20//NONSGML v1.0//EN
CALSCALE:GREGORIAN
METHOD:PUBLISH
X-WR-CALNAME:Suisun RCD
X-ORIGINAL-URL:https://suisunrcd.org
X-WR-CALDESC:Events for Suisun RCD
REFRESH-INTERVAL;VALUE=DURATION:PT1H
X-Robots-Tag:noindex
X-PUBLISHED-TTL:PT1H
BEGIN:VTIMEZONE
TZID:America/Los_Angeles
BEGIN:DAYLIGHT
TZOFFSETFROM:-0800
TZOFFSETTO:-0700
TZNAME:PDT
DTSTART:20230312T100000
END:DAYLIGHT
BEGIN:STANDARD
TZOFFSETFROM:-0700
TZOFFSETTO:-0800
TZNAME:PST
DTSTART:20231105T090000
END:STANDARD
BEGIN:DAYLIGHT
TZOFFSETFROM:-0800
TZOFFSETTO:-0700
TZNAME:PDT
DTSTART:20240310T100000
END:DAYLIGHT
BEGIN:STANDARD
TZOFFSETFROM:-0700
TZOFFSETTO:-0800
TZNAME:PST
DTSTART:20241103T090000
END:STANDARD
BEGIN:DAYLIGHT
TZOFFSETFROM:-0800
TZOFFSETTO:-0700
TZNAME:PDT
DTSTART:20250309T100000
END:DAYLIGHT
BEGIN:STANDARD
TZOFFSETFROM:-0700
TZOFFSETTO:-0800
TZNAME:PST
DTSTART:20251102T090000
END:STANDARD
END:VTIMEZONE
BEGIN:VEVENT
DTSTART;VALUE=DATE:20240201
DTEND;VALUE=DATE:20240901
DTSTAMP:20260421T143722
CREATED:20240110T170006Z
LAST-MODIFIED:20240110T170006Z
UID:10000045-1706745600-1725148799@suisunrcd.org
SUMMARY:Ridgeway's Rail Restrictions
DESCRIPTION:
URL:https://suisunrcd.org/event/ridgeways-rail-restrictions/
END:VEVENT
BEGIN:VEVENT
DTSTART;VALUE=DATE:20240204
DTEND;VALUE=DATE:20240205
DTSTAMP:20260421T143722
CREATED:20240119T180256Z
LAST-MODIFIED:20240201T230403Z
UID:10000052-1707004800-1707091199@suisunrcd.org
SUMMARY:BirdReturns Wetland Incentive Programs Spring and Summer Applications DUE
DESCRIPTION:Get paid to flood your wetlands!\n			\n				\n				\n				\n				\n				BirdReturns Wetland Incentive Program pays private wetland owners to provide habitat for shorebirds and other waterbirds by flooding outside of the hunting season. By adjusting the management of water depth and timing\, private wetlands can meet habitat needs for a greater diversity of waterbird species! \n			\n				\n				\n				\n				\n				\n			\n				\n				\n				\n				\n				Applications for the Spring and Summer BirdReturns Wetland Incentive Programs are now open! \nApplication Period: January 12th – February 4th\, 2024 (Deadline Extended!) \nGeographic Region Included: Central Valley\, Delta\, Suisun Marsh \nTo learn more about the programs and to complete a quick online application\, please visit the BirdReturns Website. \nNotable Changes: This year\, both programs will have fixed rates\, eliminating the bid system. Please\, carefully review the program details before applying to ensure a smooth application process. \n2024 BirdReturns – Wetland Flyer
URL:https://suisunrcd.org/event/birdreturns-wetland-incentive-programs-spring-and-summer-application-period/
END:VEVENT
BEGIN:VEVENT
DTSTART;VALUE=DATE:20240212
DTEND;VALUE=DATE:20240213
DTSTAMP:20260421T143722
CREATED:20240108T181618Z
LAST-MODIFIED:20240108T181618Z
UID:10000030-1707696000-1707782399@suisunrcd.org
SUMMARY:SRCD Holiday - Lincoln's Birthday
DESCRIPTION:
URL:https://suisunrcd.org/event/srcd-holiday-lincolns-birthday-2/
END:VEVENT
BEGIN:VEVENT
DTSTART;VALUE=DATE:20240215
DTEND;VALUE=DATE:20240216
DTSTAMP:20260421T143722
CREATED:20240125T185828Z
LAST-MODIFIED:20240125T185828Z
UID:10000053-1707955200-1708041599@suisunrcd.org
SUMMARY:Notice to Public Bidders - PreQualification Questionnaires due by 5:00PM
DESCRIPTION:
URL:https://suisunrcd.org/event/notice-to-public-bidders-prequalification-questionnaires-due-by-500pm/
END:VEVENT
BEGIN:VEVENT
DTSTART;VALUE=DATE:20240219
DTEND;VALUE=DATE:20240220
DTSTAMP:20260421T143722
CREATED:20240108T181734Z
LAST-MODIFIED:20240108T181734Z
UID:10000031-1708300800-1708387199@suisunrcd.org
SUMMARY:SRCD Holiday - Presidents' Day
DESCRIPTION:
URL:https://suisunrcd.org/event/srcd-holiday-presidents-day-2/
END:VEVENT
BEGIN:VEVENT
DTSTART;VALUE=DATE:20240221
DTEND;VALUE=DATE:20240401
DTSTAMP:20260421T143722
CREATED:20240110T170757Z
LAST-MODIFIED:20240110T170757Z
UID:10000046-1708473600-1711929599@suisunrcd.org
SUMMARY:Spring Run Chinook Salmon Intake Gate Restrictions
DESCRIPTION:
URL:https://suisunrcd.org/event/spring-run-chinook-salmon-intake-gate-restrictions/
END:VEVENT
END:VCALENDAR