BEGIN:VCALENDAR
VERSION:2.0
PRODID:-//Suisun RCD - ECPv6.15.20//NONSGML v1.0//EN
CALSCALE:GREGORIAN
METHOD:PUBLISH
X-WR-CALNAME:Suisun RCD
X-ORIGINAL-URL:https://suisunrcd.org
X-WR-CALDESC:Events for Suisun RCD
REFRESH-INTERVAL;VALUE=DURATION:PT1H
X-Robots-Tag:noindex
X-PUBLISHED-TTL:PT1H
BEGIN:VTIMEZONE
TZID:America/Los_Angeles
BEGIN:DAYLIGHT
TZOFFSETFROM:-0800
TZOFFSETTO:-0700
TZNAME:PDT
DTSTART:20250309T100000
END:DAYLIGHT
BEGIN:STANDARD
TZOFFSETFROM:-0700
TZOFFSETTO:-0800
TZNAME:PST
DTSTART:20251102T090000
END:STANDARD
BEGIN:DAYLIGHT
TZOFFSETFROM:-0800
TZOFFSETTO:-0700
TZNAME:PDT
DTSTART:20260308T100000
END:DAYLIGHT
BEGIN:STANDARD
TZOFFSETFROM:-0700
TZOFFSETTO:-0800
TZNAME:PST
DTSTART:20261101T090000
END:STANDARD
BEGIN:DAYLIGHT
TZOFFSETFROM:-0800
TZOFFSETTO:-0700
TZNAME:PDT
DTSTART:20270314T100000
END:DAYLIGHT
BEGIN:STANDARD
TZOFFSETFROM:-0700
TZOFFSETTO:-0800
TZNAME:PST
DTSTART:20271107T090000
END:STANDARD
END:VTIMEZONE
BEGIN:VEVENT
DTSTART;TZID=America/Los_Angeles:20260422T083000
DTEND;TZID=America/Los_Angeles:20260422T150000
DTSTAMP:20260422T022438
CREATED:20260110T005009Z
LAST-MODIFIED:20260417T025421Z
UID:10000094-1776846600-1776870000@suisunrcd.org
SUMMARY:2026 Suisun Marsh Spring Landowner Workshop
DESCRIPTION:SAVE THE DATE! \nJoin the Landowners of Suisun Marsh for a hybrid workshop on Wednesday\, April 22\, 2026 hosted by the Suisun Resource Conservation District. \nTime to Get Ready for Summer Fieldwork! The Suisun Resource Conservation District welcomes all landowners in the marsh to come learn about permit and program updates relating to habitat management of their clubs. The workshop will provide talks by a number of experts in wetlands and waterfowl. \nZoom Link for those that can’t attend in person:\nhttps://us02web.zoom.us/j/83526554679\nMeeting ID: 835 2655 4679 \nWorkshop Agenda
URL:https://suisunrcd.org/event/2026-suisun-marsh-spring-landowner-workshop/
LOCATION:FP Smith Parts and Equipment\, 3190 Ramsey Road\, Fairfield\, CA\, 94533\, United States
END:VEVENT
END:VCALENDAR