BEGIN:VCALENDAR
VERSION:2.0
PRODID:-//Suisun RCD - ECPv6.15.20//NONSGML v1.0//EN
CALSCALE:GREGORIAN
METHOD:PUBLISH
X-ORIGINAL-URL:https://suisunrcd.org
X-WR-CALDESC:Events for Suisun RCD
REFRESH-INTERVAL;VALUE=DURATION:PT1H
X-Robots-Tag:noindex
X-PUBLISHED-TTL:PT1H
BEGIN:VTIMEZONE
TZID:America/Los_Angeles
BEGIN:DAYLIGHT
TZOFFSETFROM:-0800
TZOFFSETTO:-0700
TZNAME:PDT
DTSTART:20230312T100000
END:DAYLIGHT
BEGIN:STANDARD
TZOFFSETFROM:-0700
TZOFFSETTO:-0800
TZNAME:PST
DTSTART:20231105T090000
END:STANDARD
BEGIN:DAYLIGHT
TZOFFSETFROM:-0800
TZOFFSETTO:-0700
TZNAME:PDT
DTSTART:20240310T100000
END:DAYLIGHT
BEGIN:STANDARD
TZOFFSETFROM:-0700
TZOFFSETTO:-0800
TZNAME:PST
DTSTART:20241103T090000
END:STANDARD
BEGIN:DAYLIGHT
TZOFFSETFROM:-0800
TZOFFSETTO:-0700
TZNAME:PDT
DTSTART:20250309T100000
END:DAYLIGHT
BEGIN:STANDARD
TZOFFSETFROM:-0700
TZOFFSETTO:-0800
TZNAME:PST
DTSTART:20251102T090000
END:STANDARD
END:VTIMEZONE
BEGIN:VEVENT
DTSTART;VALUE=DATE:20240201
DTEND;VALUE=DATE:20240901
DTSTAMP:20260421T160430
CREATED:20240110T170006Z
LAST-MODIFIED:20240110T170006Z
UID:10000045-1706745600-1725148799@suisunrcd.org
SUMMARY:Ridgeway's Rail Restrictions
DESCRIPTION:
URL:https://suisunrcd.org/event/ridgeways-rail-restrictions/
END:VEVENT
BEGIN:VEVENT
DTSTART;VALUE=DATE:20240204
DTEND;VALUE=DATE:20240205
DTSTAMP:20260421T160430
CREATED:20240119T180256Z
LAST-MODIFIED:20240201T230403Z
UID:10000052-1707004800-1707091199@suisunrcd.org
SUMMARY:BirdReturns Wetland Incentive Programs Spring and Summer Applications DUE
DESCRIPTION:Get paid to flood your wetlands!\n			\n				\n				\n				\n				\n				BirdReturns Wetland Incentive Program pays private wetland owners to provide habitat for shorebirds and other waterbirds by flooding outside of the hunting season. By adjusting the management of water depth and timing\, private wetlands can meet habitat needs for a greater diversity of waterbird species! \n			\n				\n				\n				\n				\n				\n			\n				\n				\n				\n				\n				Applications for the Spring and Summer BirdReturns Wetland Incentive Programs are now open! \nApplication Period: January 12th – February 4th\, 2024 (Deadline Extended!) \nGeographic Region Included: Central Valley\, Delta\, Suisun Marsh \nTo learn more about the programs and to complete a quick online application\, please visit the BirdReturns Website. \nNotable Changes: This year\, both programs will have fixed rates\, eliminating the bid system. Please\, carefully review the program details before applying to ensure a smooth application process. \n2024 BirdReturns – Wetland Flyer
URL:https://suisunrcd.org/event/birdreturns-wetland-incentive-programs-spring-and-summer-application-period/
END:VEVENT
END:VCALENDAR