BEGIN:VCALENDAR
VERSION:2.0
PRODID:-//Suisun RCD - ECPv6.15.20//NONSGML v1.0//EN
CALSCALE:GREGORIAN
METHOD:PUBLISH
X-ORIGINAL-URL:https://suisunrcd.org
X-WR-CALDESC:Events for Suisun RCD
REFRESH-INTERVAL;VALUE=DURATION:PT1H
X-Robots-Tag:noindex
X-PUBLISHED-TTL:PT1H
BEGIN:VTIMEZONE
TZID:America/Los_Angeles
BEGIN:DAYLIGHT
TZOFFSETFROM:-0800
TZOFFSETTO:-0700
TZNAME:PDT
DTSTART:20230312T100000
END:DAYLIGHT
BEGIN:STANDARD
TZOFFSETFROM:-0700
TZOFFSETTO:-0800
TZNAME:PST
DTSTART:20231105T090000
END:STANDARD
BEGIN:DAYLIGHT
TZOFFSETFROM:-0800
TZOFFSETTO:-0700
TZNAME:PDT
DTSTART:20240310T100000
END:DAYLIGHT
BEGIN:STANDARD
TZOFFSETFROM:-0700
TZOFFSETTO:-0800
TZNAME:PST
DTSTART:20241103T090000
END:STANDARD
BEGIN:DAYLIGHT
TZOFFSETFROM:-0800
TZOFFSETTO:-0700
TZNAME:PDT
DTSTART:20250309T100000
END:DAYLIGHT
BEGIN:STANDARD
TZOFFSETFROM:-0700
TZOFFSETTO:-0800
TZNAME:PST
DTSTART:20251102T090000
END:STANDARD
END:VTIMEZONE
BEGIN:VEVENT
DTSTART;TZID=America/Los_Angeles:20240127T130000
DTEND;TZID=America/Los_Angeles:20240127T160000
DTSTAMP:20260421T173455
CREATED:20240119T175754Z
LAST-MODIFIED:20240119T175757Z
UID:10000051-1706360400-1706371200@suisunrcd.org
SUMMARY:Terry Connolly Celebration of Life
DESCRIPTION:Terry Connolly\, a Member of the Suisun Resource Conservation District Board of Directors passed away on December 15th\, 2023 in Vallejo after a brief illness. He served as a SRCD Director for 21 years starting in December 2002 until he passed away\, and he was the chair of the board’s Finance Committee. \nTerry was predeceased by his parents Tom and Zella\, sister Marilyn Connolly Kelly\, and his faithful canine partners\, Tuxedo and Bear. He is survived by his life companion\, Vickie Bentley\, nephew Kyle Kelly\, and cousins Guy Kilburn\, Adam Kilburn\, and Wyatt Kilburn. \nJoin Terry’s Family and Friends for a Celebration of Life \nDate: January 27th\, 2024 \nTime: 1:00PM – 4:00PM \nWhere: Green Valley Country Club\, 35 Country Club Drive\, Fairfield. \nDonations in his memory may be made to the California Waterfowl Association\, 1346 Blue Oaks Blvd.\, Roseville\, CA 95678 or online at www.calwaterfowl.org/donate-online. \n 
URL:https://suisunrcd.org/event/terry-connolly-celebration-of-life/
LOCATION:Green Valley Country Club\, 35 Country Club Drive\, Fairfield\, CA\, 94534\, United States
END:VEVENT
END:VCALENDAR